BEGIN:VCALENDAR
VERSION:2.0
PRODID:icalendar-ruby
CALSCALE:GREGORIAN
METHOD:PUBLISH
BEGIN:VEVENT
DTSTAMP:20260426T005553Z
UID:52-580175@nhat.org
DTSTART:20261220T220000Z
DTEND:20261220T230000Z
CLASS:PUBLIC
CREATED:20260310T151131
DESCRIPTION:
LAST-MODIFIED:20260310T151131
LOCATION:New Hope Apostolic Temple
SUMMARY:Leaders Meeting
URL;VALUE=URI:https://www.nhat.org/events/leaders-meeting--52/2026-12-20
ATTACH;FILENAME=BandPhoto_2026_03_10_15_06_43.png;FMTTYPE=image/png:https:/
 /dq5pwpg1q8ru0.cloudfront.net/2026/03/10/20/10/43/dff02a3a-6966-4b9e-aec9-
 0b90502659ea/BandPhoto_2026_03_10_15_06_43.png
END:VEVENT
END:VCALENDAR
