BEGIN:VCALENDAR
VERSION:2.0
PRODID:icalendar-ruby
CALSCALE:GREGORIAN
METHOD:PUBLISH
BEGIN:VEVENT
DTSTAMP:20260425T145303Z
UID:52-580168@nhat.org
DTSTART:20260517T210000Z
DTEND:20260517T220000Z
CLASS:PUBLIC
CREATED:20260310T151131
DESCRIPTION:
LAST-MODIFIED:20260310T151131
LOCATION:New Hope Apostolic Temple
SUMMARY:Leaders Meeting
URL;VALUE=URI:https://www.nhat.org/events/leaders-meeting--52/2026-05-17
ATTACH;FILENAME=BandPhoto_2026_03_10_15_06_43.png;FMTTYPE=image/png:https:/
 /dq5pwpg1q8ru0.cloudfront.net/2026/03/10/20/10/43/dff02a3a-6966-4b9e-aec9-
 0b90502659ea/BandPhoto_2026_03_10_15_06_43.png
END:VEVENT
END:VCALENDAR
